BEGIN:VCALENDAR
PRODID:-//eluceo/ical//2.0/EN
VERSION:2.0
CALSCALE:GREGORIAN
BEGIN:VEVENT
UID:3ee8400480597f4a22259f4d6fea577a
DTSTAMP:20260421T085150Z
SUMMARY:Gottdenker Hall of Honour
DESCRIPTION:UJA Federation of Greater Toronto\nJewish Toronto Calendar\nhtt
 ps://jewishtoronto.com/calendar/gottdenker-hall-of-honour-1695830769\n\nA 
 thank you event for Baycrest fundholders.
DTSTART;TZID=America/Toronto:20231023T180000
DTEND;TZID=America/Toronto:20231023T203000
END:VEVENT
END:VCALENDAR
