BEGIN:VCALENDAR
PRODID:-//eluceo/ical//2.0/EN
VERSION:2.0
CALSCALE:GREGORIAN
BEGIN:VEVENT
UID:0f0ddfb4798b0971d01d47ca2730d0b8
DTSTAMP:20260424T062324Z
SUMMARY:Good Books
DESCRIPTION:UJA Federation of Greater Toronto\nJewish Toronto Calendar\nhtt
 ps://jewishtoronto.com/calendar/good-books-1681236141\n\nwith Cynthia Good
 \nCynthia Good has been a leader in the publishing industry for many years
 . Join her every second week to hear about the latest great novels she’s
  discovering\, the development of contemporary genres\, and old favourites
 . At the end\, there’s time for you to add your own reading suggestions.
  Free and open to all.\n\nJoin Zoom Meeting\nhttps://us06web.zoom.us/j/914
 42171255?pwd=VWZ3b01URXRCUWhGdmdGa3BxUW10QT09\n\nMeeting ID: 914 4217 1255
 \nPasscode: Good\n\nMeeting ID: 914 421...
DTSTART;TZID=America/Toronto:20230425T103000
DTEND;TZID=America/Toronto:20230425T113000
END:VEVENT
END:VCALENDAR
