BEGIN:VCALENDAR
PRODID:-//eluceo/ical//2.0/EN
VERSION:2.0
CALSCALE:GREGORIAN
BEGIN:VEVENT
UID:54e525a761a19cd105ce65e09e5e917d
DTSTAMP:20260419T234837Z
SUMMARY:Generation Now Chanukah Event
DESCRIPTION:UJA Federation of Greater Toronto\nJewish Toronto Calendar\nhtt
 ps://jewishtoronto.com/calendar/generation-now-chanukah-event-1692805040\n
 \nFSWC&#39\;s Generation Now Chanukah Party
DTSTART;TZID=America/Toronto:20231212T193000
DTEND;TZID=America/Toronto:20231212T213000
END:VEVENT
END:VCALENDAR
