BEGIN:VCALENDAR
PRODID:-//eluceo/ical//2.0/EN
VERSION:2.0
CALSCALE:GREGORIAN
BEGIN:VEVENT
UID:99e56595cc0fd8594b0ba7d5512671aa
DTSTAMP:20260422T082711Z
SUMMARY:FSWC Rabbi Leder Event
DESCRIPTION:UJA Federation of Greater Toronto\nJewish Toronto Calendar\nhtt
 ps://jewishtoronto.com/calendar/fswc-rabbi-leder-event\n\nThis intimate ev
 ening with Rabbi Steve Leder\, moderated by Jesse Rubinoff\,\nwill engage 
 and inspire individuals to Live a Life of Purpose. Rabbi Leder\nwill use h
 is countless years of experience as a religious leader and spiritual\ncoun
 selor to tackle questions that we all struggle with: What is a good\nperso
 n? How do we raise good children? And how do we stand up against\nhate\, p
 rotect one another\, and keep our communities safe in a way that\nfeels me
 aningful to us and our families? No matte...
DTSTART;TZID=America/Toronto:20230705T191500
DTEND;TZID=America/Toronto:20230705T210000
END:VEVENT
END:VCALENDAR
