BEGIN:VCALENDAR
PRODID:-//eluceo/ical//2.0/EN
VERSION:2.0
CALSCALE:GREGORIAN
BEGIN:VEVENT
UID:7153425c82e9801def3ee08745b0f6cc
DTSTAMP:20260425T180738Z
SUMMARY:FSWC Major Gifts Gala
DESCRIPTION:UJA Federation of Greater Toronto\nJewish Toronto Calendar\nhtt
 ps://jewishtoronto.com/calendar/fswc-major-gifts-gala-1643311157\n\nFSWC M
 ajor Gifts Gala
DTSTART;TZID=America/Toronto:20221025T180000
DTEND;TZID=America/Toronto:20221025T220000
END:VEVENT
END:VCALENDAR
