BEGIN:VCALENDAR
PRODID:-//eluceo/ical//2.0/EN
VERSION:2.0
CALSCALE:GREGORIAN
BEGIN:VEVENT
UID:dd6395cda06d84b9838f90eb757118bc
DTSTAMP:20260419T235425Z
SUMMARY:FSWC Holocaust Education Conference
DESCRIPTION:UJA Federation of Greater Toronto\nJewish Toronto Calendar\nhtt
 ps://jewishtoronto.com/calendar/fswc-holocaust-education-conference-168867
 3965\n\nFriends of Simon Wiesenthal Center’s Holocaust Education confere
 nce will feature leading experts in the field of Holocaust studies discuss
 ing current research and best practices in Holocaust education.
DTSTART;TZID=America/Toronto:20240127T120000
DTEND;TZID=America/Toronto:20240128T120000
END:VEVENT
END:VCALENDAR
