BEGIN:VCALENDAR
PRODID:-//eluceo/ical//2.0/EN
VERSION:2.0
CALSCALE:GREGORIAN
BEGIN:VEVENT
UID:3876fd435f2f4fc0257e40e9fb02a3cc
DTSTAMP:20260425T130618Z
SUMMARY:Fintech Discussion + Networking
DESCRIPTION:UJA Federation of Greater Toronto\nJewish Toronto Calendar\nhtt
 ps://jewishtoronto.com/calendar/fintech-discussion--networking-1675950808\
 n\nhttps://www.meetup.com/toronto-israeli-tech-meetup/events/291444605/
DTSTART;TZID=America/Toronto:20230301T183000
DTEND;TZID=America/Toronto:20230301T213000
END:VEVENT
END:VCALENDAR
