BEGIN:VCALENDAR
PRODID:-//eluceo/ical//2.0/EN
VERSION:2.0
CALSCALE:GREGORIAN
BEGIN:VEVENT
UID:dc0e916cf644de5166cba6bb706fb5d5
DTSTAMP:20260421T063956Z
SUMMARY:Film Bites Screening: Cheese Head (Cara de Queso)
DESCRIPTION:UJA Federation of Greater Toronto\nJewish Toronto Calendar\nhtt
 ps://jewishtoronto.com/calendar/film-bites-screening-cheese-head-cara-de-q
 ueso-1696355570\n\nArgentinian director Ariel Winograd draws upon his own 
 childhood and offers a bittersweet tale of summers spent in an idyllic Jew
 ish country club in the 1990s. While fending off the neighbourhood bully\,
  experiencing the pangs of puberty and clashing wth his elders\, young Ari
 el finds that sometimes life in this highly exclusive paradise isn&#39\;t 
 all it&#39\;s cracked up to be.\n\nPresented in partnership by: Toronto Je
 wish Film Foundation and Prosserman JCC
DTSTART;TZID=America/Toronto:20231025T190000
DTEND;TZID=America/Toronto:20231025T210000
END:VEVENT
END:VCALENDAR
