BEGIN:VCALENDAR
PRODID:-//eluceo/ical//2.0/EN
VERSION:2.0
CALSCALE:GREGORIAN
BEGIN:VEVENT
UID:ad1a44576a48f5be9972d82b21b047ee
DTSTAMP:20260423T081738Z
SUMMARY:Film Bites Featuring Kidon
DESCRIPTION:UJA Federation of Greater Toronto\nJewish Toronto Calendar\nhtt
 ps://jewishtoronto.com/calendar/film-bites-featuring-kidon-1678815922\n\nJ
 oin us for the international film series with our partner The Toronto Jewi
 sh Film Foundation (TJFF). This month we will travel to France and Israel 
 with Kidon. Come an hour early and enjoy tasty French/Israeli cuisine insp
 ired by the film for an additional fee. We will serve Atlantic Salmon in a
  light lemon sauce on a bed of couscous and Israeli salad. After the film\
 , you can sink your teeth into a discussion with guest cinephiles moderate
 d by TJFF staff.\n\nTickets are available for $8 in a...
DTSTART;TZID=America/Toronto:20230323T190000
DTEND;TZID=America/Toronto:20230323T210000
END:VEVENT
END:VCALENDAR
