BEGIN:VCALENDAR
PRODID:-//eluceo/ical//2.0/EN
VERSION:2.0
CALSCALE:GREGORIAN
BEGIN:VEVENT
UID:efb3dd7dd02668d3e854608b3ab29209
DTSTAMP:20260420T170716Z
SUMMARY:Film Bites: Andwerso (Anywhere)
DESCRIPTION:UJA Federation of Greater Toronto\nJewish Toronto Calendar\nhtt
 ps://jewishtoronto.com/calendar/film-bites-andwerso-anywhere-1691781795\n\
 nIn this film about coming to terms with oneself\, Neta Riskin (Shtisel) s
 tars as Noa\, an Israeli living in Berlin. Encountering unexpected obstacl
 es\, she makes a spontaneous decision to visit Israel.
DTSTART;TZID=America/Toronto:20231122T190000
DTEND;TZID=America/Toronto:20231122T210000
END:VEVENT
END:VCALENDAR
