BEGIN:VCALENDAR
PRODID:-//eluceo/ical//2.0/EN
VERSION:2.0
CALSCALE:GREGORIAN
BEGIN:VEVENT
UID:98461f757073196f25419efa287c0226
DTSTAMP:20260425T114131Z
SUMMARY:Family Shabbat Dinner
DESCRIPTION:UJA Federation of Greater Toronto\nJewish Toronto Calendar\nhtt
 ps://jewishtoronto.com/calendar/family-shabbat-dinner-1666792271\n\nJoin u
 s at Beth Tzedec as we come together for a delicious Shabbat dinner and gr
 eat programming for kids of all ages. \n\nA young children's craft program
  begins at 5:15 p.m.\, with a lively\, abridged Kabbalat Shabbat service a
 t 5:45 p.m.\, followed by a delicious Shabbat dinner and programming for k
 ids and adults\, with dessert afterwards. \n\nCost for dinner: $70 per fam
 ily. (Participants are welcome to join for the craft and service at no cos
 t.) Pre-registration is required by November 14 at...
DTSTART;TZID=America/Toronto:20221118T171500
DTEND;TZID=America/Toronto:20221118T190000
END:VEVENT
END:VCALENDAR
