BEGIN:VCALENDAR
PRODID:-//eluceo/ical//2.0/EN
VERSION:2.0
CALSCALE:GREGORIAN
BEGIN:VEVENT
UID:2ae6903e3f2fdf1cb2bac2fc4d698196
DTSTAMP:20260425T193659Z
SUMMARY:Evenings With Steve
DESCRIPTION:UJA Federation of Greater Toronto\nJewish Toronto Calendar\nhtt
 ps://jewishtoronto.com/calendar/evenings-with-steve-1667944149\n\nMarie He
 nien in conversation with Steve Skurka about her memoir: Nothing But The T
 ruth. Dessert reception to follow. Signed copies of Marie Henein&#039\;s b
 ook will be availble for purchase.
DTSTART;TZID=America/Toronto:20221207T190000
DTEND;TZID=America/Toronto:20221207T203000
END:VEVENT
END:VCALENDAR
