BEGIN:VCALENDAR
PRODID:-//eluceo/ical//2.0/EN
VERSION:2.0
CALSCALE:GREGORIAN
BEGIN:VEVENT
UID:8b62cd8016b3893e3d6f401ef19022d7
DTSTAMP:20260421T091800Z
SUMMARY:Erev Sukkot Service and Consecration Ceremony
DESCRIPTION:UJA Federation of Greater Toronto\nJewish Toronto Calendar\nhtt
 ps://jewishtoronto.com/calendar/erev-sukkot-service-and-consecration-cerem
 ony-1695149856\n\nIN-PERSON\nErev Sukkot Service and Consecration Ceremony
 \nFriday\, September 29\, 2023\n6.30 p.m.\n\nConsecration honours our Grad
 e 1 students in front of their families and community as they’re called 
 to the bimah with joyous song to receive their own mini Torah.\n\nPlease j
 oin us in the Sanctuary for this special service and ceremony.\nhttps://re
 brand.ly/ts-consecration-2023
DTSTART;TZID=America/Toronto:20230929T183000
DTEND;TZID=America/Toronto:20230929T193000
END:VEVENT
END:VCALENDAR
