BEGIN:VCALENDAR
PRODID:-//eluceo/ical//2.0/EN
VERSION:2.0
CALSCALE:GREGORIAN
BEGIN:VEVENT
UID:728d6dfaa02d002deb072987fa539c92
DTSTAMP:20260419T191052Z
SUMMARY:ENTERING: A Half-Day Jewish Mindfulness Retreat
DESCRIPTION:UJA Federation of Greater Toronto\nJewish Toronto Calendar\nhtt
 ps://jewishtoronto.com/calendar/entering-a-half-day-jewish-mindfulness-ret
 reat-1704826563\n\nJoin us on Shabbat afternoon for an experience of mindf
 ulness as we enter into the new month of Adar.\n\nThe afternoon will be fi
 lled with meditation practice (with instruction)\, chanting\, Torah study\
 , mindful tefillah (prayer)\, seudah shlisheet (the third meal) and opport
 unity to practice and deepen together in community. We will close our time
  with havdalah and letting Shabbat out together. \n\nNo prior experience o
 f any kind is needed or expected. All texts will be in translation and...
DTSTART;TZID=America/Toronto:20240210T140000
DTEND;TZID=America/Toronto:20240210T190000
END:VEVENT
END:VCALENDAR
