BEGIN:VCALENDAR
PRODID:-//eluceo/ical//2.0/EN
VERSION:2.0
CALSCALE:GREGORIAN
BEGIN:VEVENT
UID:fe8c4e0521b5164999c3a5cf3f584f26
DTSTAMP:20260421T003318Z
SUMMARY:Emunah Toronto Bake Sale
DESCRIPTION:UJA Federation of Greater Toronto\nJewish Toronto Calendar\nhtt
 ps://jewishtoronto.com/calendar/emunah-toronto-bake-sale-1694104163\n\nAnn
 ual bake sale for Emunah
DTSTART;TZID=America/Toronto:20230913T100000
DTEND;TZID=America/Toronto:20230913T120000
END:VEVENT
END:VCALENDAR
