BEGIN:VCALENDAR
PRODID:-//eluceo/ical//2.0/EN
VERSION:2.0
CALSCALE:GREGORIAN
BEGIN:VEVENT
UID:f9db2fa468869a8b43a3cb6fce4e9534
DTSTAMP:20260424T030851Z
SUMMARY:Emunah Canada New Gen Wine & Beads
DESCRIPTION:UJA Federation of Greater Toronto\nJewish Toronto Calendar\nhtt
 ps://jewishtoronto.com/calendar/emunah-canada-new-gen-wine--beads-16759672
 98\n\nWomen&#039\;s-only event\, drink wine and make bracelets together to
  raise money for Emunah
DTSTART;TZID=America/Toronto:20230316T193000
DTEND;TZID=America/Toronto:20230316T220000
END:VEVENT
END:VCALENDAR
