BEGIN:VCALENDAR
PRODID:-//eluceo/ical//2.0/EN
VERSION:2.0
CALSCALE:GREGORIAN
BEGIN:VEVENT
UID:d1f9844476525ecc8518f8d81b343181
DTSTAMP:20260423T031254Z
SUMMARY:Drawing Near Together
DESCRIPTION:UJA Federation of Greater Toronto\nJewish Toronto Calendar\nhtt
 ps://jewishtoronto.com/calendar/drawing-near-together-1681417178\n\nA new 
 Shabbat experience where our creative process becomes a spiritual practice
 ! The third session in this series is open to everyone ages 15+. Using the
  Jewish Studio Project methodology\, we’ll imagine a more just world thr
 ough a combination of Beit Midrash – the study of texts from Jewish trad
 ition and the contemporary world – and art-making. This is a space of po
 ssibilities\, where everyone will have a chance to draw\, paint\, collage\
 , or assemble – using whatever medium delights you...
DTSTART;TZID=America/Toronto:20230422T130000
DTEND;TZID=America/Toronto:20230422T150000
END:VEVENT
END:VCALENDAR
