BEGIN:VCALENDAR
PRODID:-//eluceo/ical//2.0/EN
VERSION:2.0
CALSCALE:GREGORIAN
BEGIN:VEVENT
UID:18f833ecb3e1cf4875f1879738df8c0a
DTSTAMP:20260422T201908Z
SUMMARY:Dorot Presents: Chess Lessons
DESCRIPTION:UJA Federation of Greater Toronto\nJewish Toronto Calendar\nhtt
 ps://jewishtoronto.com/calendar/dorot-presents-chess-lessons-1681237727\n\
 nWe are thrilled to announce that Holy Blossom Temple will be offering che
 ss lessons from the esteemed Chess Institute of Canada for four Sundays st
 arting April 16th. The lessons will take place in the Holy Grounds area an
 d will run from 12:30 pm to 2:00 pm.Under the guidance of a highly skilled
  CIC instructor\, beginners will be paired with more advanced players\, wi
 th an emphasis on mixing generations\, to share in cooperative games and p
 uzzles. The session aims to promote intergenerational bon...
DTSTART;TZID=America/Toronto:20230416T123000
DTEND;TZID=America/Toronto:20230416T140000
END:VEVENT
END:VCALENDAR
