BEGIN:VCALENDAR
PRODID:-//eluceo/ical//2.0/EN
VERSION:2.0
CALSCALE:GREGORIAN
BEGIN:VEVENT
UID:59a3162d37288bf3a55c1dc795a0f9b8
DTSTAMP:20260420T101215Z
SUMMARY:Donor Wall Unveiling
DESCRIPTION:UJA Federation of Greater Toronto\nJewish Toronto Calendar\nhtt
 ps://jewishtoronto.com/calendar/donor-wall-unveiling-1706625151\n\nAn even
 ing to honour JF&CS supporters.
DTSTART;TZID=America/Toronto:20240508T183000
DTEND;TZID=America/Toronto:20240508T210000
END:VEVENT
END:VCALENDAR
