BEGIN:VCALENDAR
PRODID:-//eluceo/ical//2.0/EN
VERSION:2.0
CALSCALE:GREGORIAN
BEGIN:VEVENT
UID:9a4589b0750dce7fe85177657a594a12
DTSTAMP:20260422T134732Z
SUMMARY:Divine Attributes: Counting the Omer Through a Mindfulness Lens
DESCRIPTION:UJA Federation of Greater Toronto\nJewish Toronto Calendar\nhtt
 ps://jewishtoronto.com/calendar/divine-attributes-counting-the-omer-throug
 h-a-mindfulness-lens-1678994203\n\nJoin Beth Tzedec&#039\;s artist-in-resi
 dence Aviva Chernick for this meditation series which takes place between 
 Passover and Shavuot\, during the counting of the Omer. \n\nInspired by th
 e Kabbalistic practice of associating each of the seven weeks of the count
 ing with a different sefirah or attribute of the Divine\, we will don our 
 mindfulness lens and notice how these attributes manifest within and aroun
 d us. \n\nThis is an introductory meditation course and all levels of expe
 rience are welcome....
DTSTART;TZID=America/Toronto:20230414T123000
DTEND;TZID=America/Toronto:20230414T130000
END:VEVENT
END:VCALENDAR
