BEGIN:VCALENDAR
PRODID:-//eluceo/ical//2.0/EN
VERSION:2.0
CALSCALE:GREGORIAN
BEGIN:VEVENT
UID:b16ed77eb48a1b6d6dd224462b1e7822
DTSTAMP:20260423T022137Z
SUMMARY:Day Trips in Jewish History with Hana Werner
DESCRIPTION:UJA Federation of Greater Toronto\nJewish Toronto Calendar\nhtt
 ps://jewishtoronto.com/calendar/day-trips-in-jewish-history-with-hana-wern
 er-1679408555\n\nMondays at 1:30 p.m. at Beth Tzedec (in person and via Zo
 om)\n\nBack by popular demand\, Hana Werner presents snapshots of the Bibl
 ical and modern-day stories\, scrolls and characters. This year&#039\;s se
 ries will explore many visionary Jewish leaders\, each inspired by a “gr
 owth mindset”. They are guided by a strong sense of Jewish peoplehood an
 d destiny and work tirelessly to achieve it.\n\nThe mystery of our history
  is shaped by revolutionary thinking and practice that transformed adversi
 ty...
DTSTART;TZID=America/Toronto:20230424T133000
DTEND;TZID=America/Toronto:20230424T150000
END:VEVENT
END:VCALENDAR
