BEGIN:VCALENDAR
PRODID:-//eluceo/ical//2.0/EN
VERSION:2.0
CALSCALE:GREGORIAN
BEGIN:VEVENT
UID:7a9b1a277d45ca99be3a1229be414eb2
DTSTAMP:20260425T231808Z
SUMMARY:Day Trips in Jewish History with Hana Werner
DESCRIPTION:UJA Federation of Greater Toronto\nJewish Toronto Calendar\nhtt
 ps://jewishtoronto.com/calendar/day-trips-in-jewish-history-with-hana-wern
 er-1666642043\n\nBack by popular demand\, Hana Werner presents snapshots o
 f the Biblical and modern-day stories\, scrolls and characters. \n\nThis y
 ear&#039\;s series will explore many visionary Jewish leaders\, each inspi
 red by a “growth mindset”. They are guided by a strong sense of Jewish
  peoplehood and destiny and work tirelessly to achieve it. The Fall sessio
 ns will focus on Biblical characters\, such as Sarah\, Gideon\, Deborah an
 d Ezekiel. The Spring lectures will include Eliezer Ben Yehuda\, Emma Laza
 rus and...
DTSTART;TZID=America/Toronto:20221031T133000
DTEND;TZID=America/Toronto:20221031T150000
END:VEVENT
END:VCALENDAR
