BEGIN:VCALENDAR
PRODID:-//eluceo/ical//2.0/EN
VERSION:2.0
CALSCALE:GREGORIAN
BEGIN:VEVENT
UID:51e43a1306253d3001d8f85634f3853a
DTSTAMP:20260424T194810Z
SUMMARY:Day of Giving
DESCRIPTION:UJA Federation of Greater Toronto\nJewish Toronto Calendar\nhtt
 ps://jewishtoronto.com/calendar/day-of-giving-1678911060\n\nAnnual fundrai
 ser for 13 Jewish day schools
DTSTART;TZID=America/Toronto:20240306T080000
DTEND;TZID=America/Toronto:20240307T120000
END:VEVENT
END:VCALENDAR
