BEGIN:VCALENDAR
PRODID:-//eluceo/ical//2.0/EN
VERSION:2.0
CALSCALE:GREGORIAN
BEGIN:VEVENT
UID:224c1b0a6742b628876a8dca09103a57
DTSTAMP:20260422T225825Z
SUMMARY:Consulate of Israel\, Israel Bonds - Israel's 75th Independence Day
DESCRIPTION:UJA Federation of Greater Toronto\nJewish Toronto Calendar\nhtt
 ps://jewishtoronto.com/calendar/consulate-of-israel-israel-bonds---israels
 -75th-independence-day-1682523631\n\nThe Consulate General of Israel in To
 ronto and Western Canada in Partnership with Israel Bonds Canada Celebrati
 ng Israel&#039\;s Independence Day Special Concert by Passerby City Playho
 use Theatre 1000 New Westminster Driver\, VaughanRegistration for event is
  REQUIRED & is being managed by the Consulate of Israel.
DTSTART;TZID=America/Toronto:20230510T180000
DTEND;TZID=America/Toronto:20230510T210000
END:VEVENT
END:VCALENDAR
