BEGIN:VCALENDAR
PRODID:-//eluceo/ical//2.0/EN
VERSION:2.0
CALSCALE:GREGORIAN
BEGIN:VEVENT
UID:fd281e0cf7fb54b02887c7acdf6f4d43
DTSTAMP:20260420T222400Z
SUMMARY:Community Yizkor Service
DESCRIPTION:UJA Federation of Greater Toronto\nJewish Toronto Calendar\nhtt
 ps://jewishtoronto.com/calendar/community-yizkor-service\n\nCommunity Yizk
 or Service. More details to follow. 
DTSTART;TZID=America/Toronto:20230924T110000
DTEND;TZID=America/Toronto:20230924T120000
END:VEVENT
END:VCALENDAR
