BEGIN:VCALENDAR
PRODID:-//eluceo/ical//2.0/EN
VERSION:2.0
CALSCALE:GREGORIAN
BEGIN:VEVENT
UID:573adb3c46b8fc9e025fc6dfef92cbee
DTSTAMP:20260420T133258Z
SUMMARY:Community Security Event with Criminal Defense Attorney Leora Sheme
 sh
DESCRIPTION:UJA Federation of Greater Toronto\nJewish Toronto Calendar\nhtt
 ps://jewishtoronto.com/calendar/community-security-event-with-criminal-def
 ense-attorney-leora-shemesh-1715267172\n\nLearn about hate speech\, violen
 ce\, court process\,  and how the legal system works. Limited space is ava
 ilable\, first come first serve. Limit of 1 ticket per person\, and 48 hrs
  cancellation notice required. Adults only 18+.
DTSTART;TZID=America/Toronto:20240610T190000
DTEND;TZID=America/Toronto:20240610T210000
END:VEVENT
END:VCALENDAR
