BEGIN:VCALENDAR
PRODID:-//eluceo/ical//2.0/EN
VERSION:2.0
CALSCALE:GREGORIAN
BEGIN:VEVENT
UID:1908b89ea02a5dd9d0299a33cdea31ed
DTSTAMP:20260420T103323Z
SUMMARY:Comedy for a Cause: Standup from Israel
DESCRIPTION:UJA Federation of Greater Toronto\nJewish Toronto Calendar\nhtt
 ps://jewishtoronto.com/calendar/comedy-for-a-cause-standup-from-israel-169
 9912878\n\nHEAL YOUR SOULS WITH COMEDY....ONE NIGHT ONLY!\n\nFollowing the
 ir performance on the final night of Vancouver&#39\;s Chutzpah Festival\,
  visiting Israeli standup comics Deb Kaye\, Benji Lovitt\, and Dana Pe
 rry Segal come to Toronto to laugh\, celebrate Israel\, and raise money 
 for a worthy cause. The Jewish people have always laughed to keep from cry
 ing and during these tough times\, it&#39\;s never been more important to 
 laugh. Come show your support as our comics reflect on the magical and cra
 zy coun...
DTSTART;TZID=America/Toronto:20231126T200000
DTEND;TZID=America/Toronto:20231126T220000
END:VEVENT
END:VCALENDAR
