BEGIN:VCALENDAR
PRODID:-//eluceo/ical//2.0/EN
VERSION:2.0
CALSCALE:GREGORIAN
BEGIN:VEVENT
UID:a9c453aeec308d4508eeaf703c42a01c
DTSTAMP:20260425T123715Z
SUMMARY:Come Say Chai
DESCRIPTION:UJA Federation of Greater Toronto\nJewish Toronto Calendar\nhtt
 ps://jewishtoronto.com/calendar/come-say-chai-1668445280\n\nCome Say Chai 
 is a young professionals networking event by the Young Builders Society at
  Chai Lifeline Canada.
DTSTART;TZID=America/Toronto:20230601T190000
DTEND;TZID=America/Toronto:20230601T230000
END:VEVENT
END:VCALENDAR
