BEGIN:VCALENDAR
PRODID:-//eluceo/ical//2.0/EN
VERSION:2.0
CALSCALE:GREGORIAN
BEGIN:VEVENT
UID:6c3d7ea1d6395d2bab81f01197ab979f
DTSTAMP:20260423T064836Z
SUMMARY:Coldest Night of the Year
DESCRIPTION:UJA Federation of Greater Toronto\nJewish Toronto Calendar\nhtt
 ps://jewishtoronto.com/calendar/coldest-night-of-the-year-1673298247\n\nVe
 &#39\;ahavta is partnering with Beth Tzedec to host Coldest Night of the Y
 ear\, a cross-Canada\, family-friendly\nwalk to raise money and awareness 
 for local charities that serve people experiencing hurt\, hunger\, and hom
 elessness.\nCOME OUT AND WALK WITH US!
DTSTART;TZID=America/Toronto:20230225T190000
DTEND;TZID=America/Toronto:20230225T210000
END:VEVENT
END:VCALENDAR
