BEGIN:VCALENDAR
PRODID:-//eluceo/ical//2.0/EN
VERSION:2.0
CALSCALE:GREGORIAN
BEGIN:VEVENT
UID:18ff9ea92c586c2eda8836c52a6e4e76
DTSTAMP:20260424T175649Z
SUMMARY:CJPAC ACTION Party
DESCRIPTION:UJA Federation of Greater Toronto\nJewish Toronto Calendar\nhtt
 ps://jewishtoronto.com/calendar/cjpac-action-party-1657738235\n\nA multipa
 rtisan political event celebrating political engagement and support for Ca
 nada and Israel.
DTSTART;TZID=America/Toronto:20230608T190000
DTEND;TZID=America/Toronto:20230609T000000
END:VEVENT
END:VCALENDAR
