BEGIN:VCALENDAR
PRODID:-//eluceo/ical//2.0/EN
VERSION:2.0
CALSCALE:GREGORIAN
BEGIN:VEVENT
UID:de305cce35545755529de489b3f93cc4
DTSTAMP:20260421T075818Z
SUMMARY:CJPAC - Ultimate Kiddush Club
DESCRIPTION:UJA Federation of Greater Toronto\nJewish Toronto Calendar\nhtt
 ps://jewishtoronto.com/calendar/cjpac---ultimate-kiddush-club-1687977471\n
 \nTBD
DTSTART;TZID=America/Toronto:20231003T190000
DTEND;TZID=America/Toronto:20231003T213000
END:VEVENT
END:VCALENDAR
