BEGIN:VCALENDAR
PRODID:-//eluceo/ical//2.0/EN
VERSION:2.0
CALSCALE:GREGORIAN
BEGIN:VEVENT
UID:702447a2cd87ec70bf249e62402eba8b
DTSTAMP:20260420T001209Z
SUMMARY:City Shul Tot Shabbat
DESCRIPTION:UJA Federation of Greater Toronto\nJewish Toronto Calendar\nhtt
 ps://jewishtoronto.com/calendar/city-shul-tot-shabbat-1710877850\n\nWe loo
 k forward to seeing you at our next Tot Shabbat on April 13.\n\nWe play\, 
 sing songs\, do a craft or activity\, and have kiddush together. Join us o
 n April 13 and June 1. Please join us for an interactive experience for ch
 ildren up to age 4.\n\nLooking forward to seeing you!\n\nNo registration i
 s required.\n\nThis Tot Shabbat is co-sponsored by the Paul Penna Jewish D
 ay School
DTSTART;TZID=America/Toronto:20240413T103000
DTEND;TZID=America/Toronto:20240413T113000
END:VEVENT
END:VCALENDAR
