BEGIN:VCALENDAR
PRODID:-//eluceo/ical//2.0/EN
VERSION:2.0
CALSCALE:GREGORIAN
BEGIN:VEVENT
UID:af44fcc2a2753679815ae88a14214a72
DTSTAMP:20260420T102829Z
SUMMARY:City Shul Tot Shabbat
DESCRIPTION:UJA Federation of Greater Toronto\nJewish Toronto Calendar\nhtt
 ps://jewishtoronto.com/calendar/city-shul-tot-shabbat-1697488677\n\nCity S
 hul Tot Shabbat!Join us for an interactive experience for children up to a
 ge 4.We play\, sing songs\, do a craft or activity\, and have kiddush toge
 ther. Join us on Nov 18\, Dec 16\, Jan 13\, March 9\, April 13\, and June 
 1. Looking forward to seeing you!No registration is required.
DTSTART;TZID=America/Toronto:20231118T103000
DTEND;TZID=America/Toronto:20231118T113000
END:VEVENT
END:VCALENDAR
