BEGIN:VCALENDAR
PRODID:-//eluceo/ical//2.0/EN
VERSION:2.0
CALSCALE:GREGORIAN
BEGIN:VEVENT
UID:9b29ffacbfc75aa9e8d2436848d7a3f2
DTSTAMP:20260423T233634Z
SUMMARY:City Shul Tot Shabbat
DESCRIPTION:UJA Federation of Greater Toronto\nJewish Toronto Calendar\nhtt
 ps://jewishtoronto.com/calendar/city-shul-tot-shabbat-1672773111\n\nWe are
  very excited to welcome families with their toddlers to our upcoming Tots
 ’ Shabbat at St. George’s run by Elana Ellison. We hope you can join u
 s on Saturday - January 28 and February 25 - for a fun morning from 10:30 
 to 11:30. We will have an activity\, circle time\, and some time to schmoo
 ze. We look forward to seeing you and your little ones.\n\nN95--type masks
  are required except while eating.
DTSTART;TZID=America/Toronto:20230128T103000
DTEND;TZID=America/Toronto:20230128T113000
END:VEVENT
END:VCALENDAR
