BEGIN:VCALENDAR
PRODID:-//eluceo/ical//2.0/EN
VERSION:2.0
CALSCALE:GREGORIAN
BEGIN:VEVENT
UID:cb6e17d27ba186c0a09d0dfafa4bf277
DTSTAMP:20260422T115916Z
SUMMARY:City Shul Shavuot Torah Festival
DESCRIPTION:UJA Federation of Greater Toronto\nJewish Toronto Calendar\nhtt
 ps://jewishtoronto.com/calendar/city-shul-shavuot-torah-festival-168183687
 0\n\nJoin us for a Shavuot Torah Festival.All ages welcome for craft activ
 ities\, study\, and hands-on experiences. We celebrate Shabbat/Shavuot wit
 h “up-close-and-personal” Torah scrolls workshop\, learning Torah scri
 bal arts\, Torah craft for all ages\, Torah study\, Ten Commandments\, and
  of course…cheesecake!The event will conclude at noon\, followed by Yizk
 or at 12-12:30 for those who wish to stay.There is no charge for this even
 t but registration is required.The event will not be live streamed...
DTSTART;TZID=America/Toronto:20230527T100000
DTEND;TZID=America/Toronto:20230527T123000
END:VEVENT
END:VCALENDAR
