BEGIN:VCALENDAR
PRODID:-//eluceo/ical//2.0/EN
VERSION:2.0
CALSCALE:GREGORIAN
BEGIN:VEVENT
UID:50e476411087c79781257903149c097c
DTSTAMP:20260421T130332Z
SUMMARY:City Shul Kabbalat Shabbat in the Park - Young Families
DESCRIPTION:UJA Federation of Greater Toronto\nJewish Toronto Calendar\nhtt
 ps://jewishtoronto.com/calendar/city-shul-kabbalat-shabbat-in-the-park---y
 oung-families-1688652695\n\nPlease join us for this outdoor event. Remembe
 r to bring a picnic\, and some chairs (or a blanket) to sit on.\n\nThis ev
 ent is suited to young families\, but all are welcome!\n\nDirections/TTC/P
 arking\nLocation Wells Hill Park\, Area 1\, 145 Hilton Avenue\, M5R 3E9\nS
 outh side of St Clair east of Bathurst St\, opposite Loblaws\, and St Clai
 r West Subway station. Our section is beside the washrooms at the south en
 d of the park\nParking There is street parking in the neighbourhood and th
 e Loblaws\n\nR...
DTSTART;TZID=America/Toronto:20230825T170000
DTEND;TZID=America/Toronto:20230825T180000
END:VEVENT
END:VCALENDAR
