BEGIN:VCALENDAR
PRODID:-//eluceo/ical//2.0/EN
VERSION:2.0
CALSCALE:GREGORIAN
BEGIN:VEVENT
UID:12adfc5bbe9bd5b0f5e3104d740ba844
DTSTAMP:20260420T234518Z
SUMMARY:City Shul - Basic Judaism Course
DESCRIPTION:UJA Federation of Greater Toronto\nJewish Toronto Calendar\nhtt
 ps://jewishtoronto.com/calendar/city-shul---basic-judaism-course-169332758
 8\n\nBasic Judaism\, taught by Rabbi Garry Loeb6 weeks\, Tuesday nights\, 
 7:30 PM – Oct 3 x 6 weeks (no class on Oct 24)Kick-start your Jewish jou
 rney\, or catch up on what you missed or forgot. This class is a great pla
 ce to learn as an adult the why’s and how’s of a Jewish life. Holidays
 \, lifecycle\, and basic Reform Jewish philosophy. The class is on Zoom. C
 lick here to register - bit.ly/3OVYbTd
DTSTART;TZID=America/Toronto:20231017T193000
DTEND;TZID=America/Toronto:20231017T210000
END:VEVENT
END:VCALENDAR
