BEGIN:VCALENDAR
PRODID:-//eluceo/ical//2.0/EN
VERSION:2.0
CALSCALE:GREGORIAN
BEGIN:VEVENT
UID:63839910be196e74c062f2e550ebb664
DTSTAMP:20260422T113248Z
SUMMARY:CISL  Israel Bonds - AGM
DESCRIPTION:UJA Federation of Greater Toronto\nJewish Toronto Calendar\nhtt
 ps://jewishtoronto.com/calendar/cisl--israel-bonds---agm-1682522540\n\nDet
 ails TBC shortly
DTSTART;TZID=America/Toronto:20230523T160000
DTEND;TZID=America/Toronto:20230523T210000
END:VEVENT
END:VCALENDAR
