BEGIN:VCALENDAR
PRODID:-//eluceo/ical//2.0/EN
VERSION:2.0
CALSCALE:GREGORIAN
BEGIN:VEVENT
UID:aa25dbb4568bb96e2c9c39fc30dd25f1
DTSTAMP:20260421T145729Z
SUMMARY:Cinema Spectacular: The Golden Age of Cinema Concert
DESCRIPTION:UJA Federation of Greater Toronto\nJewish Toronto Calendar\nhtt
 ps://jewishtoronto.com/calendar/cinemaspectacular-the-golden-age-ofcinemac
 oncert-1693513790\n\nJoin us for this night of classic songs from the like
 s of Bernstein and the Gershwins. Enjoy familiar songs that came out of th
 is incredible period from the &#39\;20s to the &#39\;60s\, featuring spec
 ial guests including Cantor Moshe Fishel\, Cantor Sidney Ezer and accompan
 ist Asher Farber.\n\nThis concert will be presented for both in-person and
  online audiences. There is no charge but registration is required for all
 .
DTSTART;TZID=America/Toronto:20230920T193000
DTEND;TZID=America/Toronto:20230920T214500
END:VEVENT
END:VCALENDAR
