BEGIN:VCALENDAR
PRODID:-//eluceo/ical//2.0/EN
VERSION:2.0
CALSCALE:GREGORIAN
BEGIN:VEVENT
UID:f697d2ee8ac0beaa2b52e03cfeb44e50
DTSTAMP:20260420T061232Z
SUMMARY:CHW Toronto L'Netzach Chapter Chai Tea in Concert with Shoshana Tel
 ner
DESCRIPTION:UJA Federation of Greater Toronto\nJewish Toronto Calendar\nhtt
 ps://jewishtoronto.com/calendar/chw-toronto-lnetzach-chapter-chai-tea-in-c
 oncert-with-shoshanna-telner-1704988746\n\nJoin us for an afternoon of fam
 iliar classical and romantic favourites performed by pianist Shoshana Teln
 er in collaboration with violinist Michael Schulte. To learn more about th
 is event\, please visit our website at www.chw.ca.
DTSTART;TZID=America/Toronto:20240114T144500
DTEND;TZID=America/Toronto:20240114T160000
END:VEVENT
END:VCALENDAR
