BEGIN:VCALENDAR
PRODID:-//eluceo/ical//2.0/EN
VERSION:2.0
CALSCALE:GREGORIAN
BEGIN:VEVENT
UID:f38fbde54748fb33cff7014151641f15
DTSTAMP:20260419T162955Z
SUMMARY:CHW Toronto Centre Pilates Fusion
DESCRIPTION:UJA Federation of Greater Toronto\nJewish Toronto Calendar\nhtt
 ps://jewishtoronto.com/calendar/chw-toronto-centre-pilates-fusion-17091442
 22\n\nFor more information\, please contact: info-events@chw.ca.
DTSTART;TZID=America/Toronto:20240305T193000
DTEND;TZID=America/Toronto:20240305T203000
END:VEVENT
END:VCALENDAR
