BEGIN:VCALENDAR
PRODID:-//eluceo/ical//2.0/EN
VERSION:2.0
CALSCALE:GREGORIAN
BEGIN:VEVENT
UID:71611a2c9e5c8e94f06a47a9d797fcd5
DTSTAMP:20260426T034942Z
SUMMARY:CHW Toronto & Montreal: Chanukah Party Bingo\, ft comedian Joe Fish
DESCRIPTION:UJA Federation of Greater Toronto\nJewish Toronto Calendar\nhtt
 ps://jewishtoronto.com/calendar/chw-toronto--montreal-chanukah-party-bingo
 -ft-comedian-joe-fish-1668185544\n\nChanukah Party Bingo - Featuring Comed
 ian Joe Fish\n\nCHW Toronto Centre and CHW Montreal Centre are delighted t
 o host a Chanukah Party Bingo with comedian Joe Fish. Join the celebration
 s on Wednesday\, December 14\, from 7:30 PM ET on Zoom.
DTSTART;TZID=America/Toronto:20221214T193000
DTEND;TZID=America/Toronto:20221214T210000
END:VEVENT
END:VCALENDAR
