BEGIN:VCALENDAR
PRODID:-//eluceo/ical//2.0/EN
VERSION:2.0
CALSCALE:GREGORIAN
BEGIN:VEVENT
UID:0cad6fcf3b4054c74013fdea19f0b6a5
DTSTAMP:20260425T190926Z
SUMMARY:Christmas Eve: A night of Terror or a Jewish Holiday?
DESCRIPTION:UJA Federation of Greater Toronto\nJewish Toronto Calendar\nhtt
 ps://jewishtoronto.com/calendar/christmas-eve-a-night-of-terror-or-a-jewis
 h-holiday-1669391716\n\nThis webinar will focus on Eastern European Christ
 mas traditions that were practiced by Christians and Jews alike.  Jordan C
 had is a multidisciplinary researcher currently working as a Research Asso
 ciate at the U. of Toronto\, where he received his PhD last summer. \n\npl
 ease register at https://tinyurl.com/wcarto9  by Friday December 9th.
DTSTART;TZID=America/Toronto:20221211T140000
DTEND;TZID=America/Toronto:20221211T160000
END:VEVENT
END:VCALENDAR
