BEGIN:VCALENDAR
PRODID:-//eluceo/ical//2.0/EN
VERSION:2.0
CALSCALE:GREGORIAN
BEGIN:VEVENT
UID:adc1df52604fb47d49ad490a5392e0d4
DTSTAMP:20260423T100249Z
SUMMARY:Chai Lifeline Gala featuring Andrea Bocelli
DESCRIPTION:UJA Federation of Greater Toronto\nJewish Toronto Calendar\nhtt
 ps://jewishtoronto.com/calendar/chai-lifeline-gala-featuring-andrea-bocell
 i-1704726036\n\nCelebrate Chai Lifeline Canada&#39\;s 18th Anniversary at 
 our Gala Dinner and concert featuring Andrea Bocelli
DTSTART;TZID=America/Toronto:20240409T070000
DTEND;TZID=America/Toronto:20240409T230000
END:VEVENT
END:VCALENDAR
