BEGIN:VCALENDAR
PRODID:-//eluceo/ical//2.0/EN
VERSION:2.0
CALSCALE:GREGORIAN
BEGIN:VEVENT
UID:636618d7dfb28a017473a1974b1d9785
DTSTAMP:20260422T152306Z
SUMMARY:Celebrating Rabbi Yael Splansky: 25 Years & Counting
DESCRIPTION:UJA Federation of Greater Toronto\nJewish Toronto Calendar\nhtt
 ps://jewishtoronto.com/calendar/celebrating-rabbi-yael-splansky-25-years--
 counting-1681414487\n\nJoin us for a Congregational Celebration of Rabbi Y
 ael Splansky’s 25th Anniversary at Holy Blossom Temple!
DTSTART;TZID=America/Toronto:20230507T140000
DTEND;TZID=America/Toronto:20230507T160000
END:VEVENT
END:VCALENDAR
