BEGIN:VCALENDAR
PRODID:-//eluceo/ical//2.0/EN
VERSION:2.0
CALSCALE:GREGORIAN
BEGIN:VEVENT
UID:d629c77c8cbf79b0b1403f3f7b36cef5
DTSTAMP:20260420T014954Z
SUMMARY:Canadian Women Against Antisemitism
DESCRIPTION:UJA Federation of Greater Toronto\nJewish Toronto Calendar\nhtt
 ps://jewishtoronto.com/calendar/canadian-women-against-antisemitism-170628
 1150\n\nThis event will bring together elected and community leaders to ad
 dress Antisemitism promptly and decisively utilizing the full extent of th
 e law. Our event will feature multicultural and interfaith speakers and pa
 rticipants. The event coincides with International Women’s Month.
DTSTART;TZID=America/Toronto:20240324T130000
DTEND;TZID=America/Toronto:20240324T143000
END:VEVENT
END:VCALENDAR
