BEGIN:VCALENDAR
PRODID:-//eluceo/ical//2.0/EN
VERSION:2.0
CALSCALE:GREGORIAN
BEGIN:VEVENT
UID:449b59f755fbd9ed6f9499a9f9a991a2
DTSTAMP:20260422T063122Z
SUMMARY:Canadian Friends of the Jaffa Institute Parlour Meeting
DESCRIPTION:UJA Federation of Greater Toronto\nJewish Toronto Calendar\nhtt
 ps://jewishtoronto.com/calendar/canadian-friends-of-the-jaffa-institute-pa
 rlour-meeting-1681056977\n\nJoin us for an intimate Gathering of family an
 d friendsto hear first hand how the Jaffa Institute is changing the cycle 
 of poverty in Israel.Where and When:The home of Jessica Caplan Ross and Ty
 ler Ross 501 Vesta Drive. June 7\, 2023 Time : 7:30 pmDessert and Drinks
DTSTART;TZID=America/Toronto:20230607T193000
DTEND;TZID=America/Toronto:20230607T213000
END:VEVENT
END:VCALENDAR
