BEGIN:VCALENDAR
PRODID:-//eluceo/ical//2.0/EN
VERSION:2.0
CALSCALE:GREGORIAN
BEGIN:VEVENT
UID:cdba2d428366cedf65b47001cb52a859
DTSTAMP:20260425T163502Z
SUMMARY:Canadian Friends of Shalva Chef Dinner Demo
DESCRIPTION:UJA Federation of Greater Toronto\nJewish Toronto Calendar\nhtt
 ps://jewishtoronto.com/calendar/canadian-friends-of-shalva-chef-dinner-dem
 o\n\nCanadian Friends of Shalva Chef Dinner Demo.
DTSTART;TZID=America/Toronto:20230511T000000
DTEND;TZID=America/Toronto:20230511T000000
END:VEVENT
END:VCALENDAR
