BEGIN:VCALENDAR
PRODID:-//eluceo/ical//2.0/EN
VERSION:2.0
CALSCALE:GREGORIAN
BEGIN:VEVENT
UID:56c60570a71fd612a13efed1e982169d
DTSTAMP:20260421T220015Z
SUMMARY:Canadian Friends of Jaffa Institute (CFJI) Parlour Meeting
DESCRIPTION:UJA Federation of Greater Toronto\nJewish Toronto Calendar\nhtt
 ps://jewishtoronto.com/calendar/canadian-friends-of-jaffa-institute-cfji-p
 arlour-meeting-1709824832\n\nJoin an intimate group to hear a firsthand ac
 count of the over-and-above services provided by the Jaffa Institute to he
 lp not only current clients in the Jafo-Tel Aviv corridor\, but how we&#39
 \;re meeting new needs of displaced Israelis
DTSTART;TZID=America/Toronto:20240522T190000
DTEND;TZID=America/Toronto:20240522T210000
END:VEVENT
END:VCALENDAR
