BEGIN:VCALENDAR
PRODID:-//eluceo/ical//2.0/EN
VERSION:2.0
CALSCALE:GREGORIAN
BEGIN:VEVENT
UID:cc1c01ca66c8a2cdf92406cce8e8fb5c
DTSTAMP:20260422T063127Z
SUMMARY:Canadian Friends of Beit Issie Shapiro 13th Annual Soccerthon
DESCRIPTION:UJA Federation of Greater Toronto\nJewish Toronto Calendar\nhtt
 ps://jewishtoronto.com/calendar/canadian-friends-of-beit-issie-shapiro-13t
 h-annual-soccerthon-1670991843\n\nKicking for Kids\, the Canadian Friends 
 of Beit Issie Shapiro’s annual flagship event is celebrating 13 years\n\
 nMore info: kickingforkids.com
DTSTART;TZID=America/Toronto:20230611T100000
DTEND;TZID=America/Toronto:20230611T160000
END:VEVENT
END:VCALENDAR
